BEGIN:VCALENDAR
VERSION:2.0
PRODID:-//Portal Municipal de Celorico da Beira - ECPv6.15.20//NONSGML v1.0//EN
CALSCALE:GREGORIAN
METHOD:PUBLISH
X-ORIGINAL-URL:https://www.cm-celoricodabeira.pt
X-WR-CALDESC:Eventos para Portal Municipal de Celorico da Beira
REFRESH-INTERVAL;VALUE=DURATION:PT1H
X-Robots-Tag:noindex
X-PUBLISHED-TTL:PT1H
BEGIN:VTIMEZONE
TZID:Europe/Lisbon
BEGIN:DAYLIGHT
TZOFFSETFROM:+0000
TZOFFSETTO:+0100
TZNAME:WEST
DTSTART:20200329T010000
END:DAYLIGHT
BEGIN:STANDARD
TZOFFSETFROM:+0100
TZOFFSETTO:+0000
TZNAME:WET
DTSTART:20201025T010000
END:STANDARD
BEGIN:DAYLIGHT
TZOFFSETFROM:+0000
TZOFFSETTO:+0100
TZNAME:WEST
DTSTART:20210328T010000
END:DAYLIGHT
BEGIN:STANDARD
TZOFFSETFROM:+0100
TZOFFSETTO:+0000
TZNAME:WET
DTSTART:20211031T010000
END:STANDARD
BEGIN:DAYLIGHT
TZOFFSETFROM:+0000
TZOFFSETTO:+0100
TZNAME:WEST
DTSTART:20220327T010000
END:DAYLIGHT
BEGIN:STANDARD
TZOFFSETFROM:+0100
TZOFFSETTO:+0000
TZNAME:WET
DTSTART:20221030T010000
END:STANDARD
END:VTIMEZONE
BEGIN:VEVENT
DTSTART;TZID=Europe/Lisbon:20210501T080000
DTEND;TZID=Europe/Lisbon:20210523T170000
DTSTAMP:20260422T184948
CREATED:20210428T085236Z
LAST-MODIFIED:20210428T085236Z
UID:14686-1619856000-1621789200@www.cm-celoricodabeira.pt
SUMMARY:Exposição virtual de fotografia\, sobre as gentes e lugares de Celorico da Beira
DESCRIPTION:
URL:https://www.cm-celoricodabeira.pt/evento/exposicao-virtual-de-fotografia-sobre-as-gentes-e-lugares-de-celorico-da-beira/
CATEGORIES:Artes e Cultura
ATTACH;FMTTYPE=image/jpeg:https://www.cm-celoricodabeira.pt/wp-content/uploads/2021/04/BannerAlfredoCunhaCorrigida.jpg
END:VEVENT
BEGIN:VEVENT
DTSTART;VALUE=DATE:20210523
DTEND;VALUE=DATE:20210524
DTSTAMP:20260422T184948
CREATED:20210521T103944Z
LAST-MODIFIED:20210521T103944Z
UID:14812-1621728000-1621814399@www.cm-celoricodabeira.pt
SUMMARY:Celorico da beira | 23 de Maio Feriado Municipal
DESCRIPTION:O Município de Celorico da Beira vai comemorar o seu Feriado Municipal no próximo dia 23 de maio\, aniversário do nascimento de Sacadura Cabral\, com a presença da Ministra da Coesão Territorial\, Profª Doutora Ana Abrunhosa. \nCom o país e o mundo ainda a braços com uma preocupante pandemia que condiciona a socialização e prejudica gravemente a economia\, a homenagem ao ilustre celoricense\, que protagonizou com Gago Coutinho a 30 de Março de 1922\, a bordo do hidroavião Lusitânia\, a 1º Travessia Aérea do Atlântico Sul\, ligando Lisboa ao Rio Janeiro\, feito heroico que constituiu a rampa de lançamento da navegação aérea\, é a oportunidade para o Município homenagear e agradecer publicamente o esforço\, o empenho\, o profissionalismo e a abnegação das instituições locais que têm estado na linha da frente no combate à pandemia covid-19. \nAs comemorações do Dia do Município terão lugar durante o período da manhã e realizar-se-ão sempre em conformidade com as regras impostas pelas entidades competentes\, com vista a mitigar o risco de contágio e assegurar a segurança dos cidadãos. O programa começa às 10H00 com uma cerimónia evocativa a Sacadura Cabral\, seguindo-se ainda neste espaço\, às 10H30\, a homenagem às instituições locais\, incansáveis combatentes e heroínas destes tempos conturbados que estamos a atravessar. Por último\, têm lugar as inaugurações da Reconstrução e Ampliação da Escola EB1 de Sta. Luzia – Escola de Acolhimento e Alteração do Edifício da Escola EB1 de S. Pedro\, respetivamente\, às 12H00 e 12H30 \nA um ano de celebrarmos o centenário da Travessia Aérea do Atlântico Sul\, almejamos os necessários avanços da ciência e da medicina para o controlo/extinção da pandemia\, que nos permita celebrar o Feriado Municipal 2022 com a sumptuosidade que o feito merece.
URL:https://www.cm-celoricodabeira.pt/evento/celorico-da-beira-23-de-maio-feriado-municipal/
CATEGORIES:Artes e Cultura
ATTACH;FMTTYPE=image/jpeg:https://www.cm-celoricodabeira.pt/wp-content/uploads/2021/05/23-maio-.jpg
END:VEVENT
END:VCALENDAR