BEGIN:VCALENDAR
VERSION:2.0
PRODID:-//Portal Municipal de Celorico da Beira - ECPv6.15.20//NONSGML v1.0//EN
CALSCALE:GREGORIAN
METHOD:PUBLISH
X-ORIGINAL-URL:https://www.cm-celoricodabeira.pt
X-WR-CALDESC:Eventos para Portal Municipal de Celorico da Beira
REFRESH-INTERVAL;VALUE=DURATION:PT1H
X-Robots-Tag:noindex
X-PUBLISHED-TTL:PT1H
BEGIN:VTIMEZONE
TZID:Europe/Lisbon
BEGIN:DAYLIGHT
TZOFFSETFROM:+0000
TZOFFSETTO:+0100
TZNAME:WEST
DTSTART:20190331T010000
END:DAYLIGHT
BEGIN:STANDARD
TZOFFSETFROM:+0100
TZOFFSETTO:+0000
TZNAME:WET
DTSTART:20191027T010000
END:STANDARD
BEGIN:DAYLIGHT
TZOFFSETFROM:+0000
TZOFFSETTO:+0100
TZNAME:WEST
DTSTART:20200329T010000
END:DAYLIGHT
BEGIN:STANDARD
TZOFFSETFROM:+0100
TZOFFSETTO:+0000
TZNAME:WET
DTSTART:20201025T010000
END:STANDARD
BEGIN:DAYLIGHT
TZOFFSETFROM:+0000
TZOFFSETTO:+0100
TZNAME:WEST
DTSTART:20210328T010000
END:DAYLIGHT
BEGIN:STANDARD
TZOFFSETFROM:+0100
TZOFFSETTO:+0000
TZNAME:WET
DTSTART:20211031T010000
END:STANDARD
END:VTIMEZONE
BEGIN:VEVENT
DTSTART;TZID=Europe/Lisbon:20200927T110000
DTEND;TZID=Europe/Lisbon:20200927T130000
DTSTAMP:20260424T111336
CREATED:20200921T215055Z
LAST-MODIFIED:20200921T215055Z
UID:10711-1601204400-1601211600@www.cm-celoricodabeira.pt
SUMMARY:Marca Livros: "Henrique\, O Infante"\, de João Paulo Oliveira e Costa
DESCRIPTION:
URL:https://www.cm-celoricodabeira.pt/evento/marca-livros-henrique-o-infante-de-joao-paulo-oliveira-e-costa/
CATEGORIES:Artes e Cultura
ATTACH;FMTTYPE=image/jpeg:https://www.cm-celoricodabeira.pt/wp-content/uploads/2020/09/jornadas-do-patrimoniotopo-scaled.jpg
END:VEVENT
END:VCALENDAR