BEGIN:VCALENDAR
VERSION:2.0
PRODID:-//Portal Municipal de Celorico da Beira - ECPv6.15.20//NONSGML v1.0//EN
CALSCALE:GREGORIAN
METHOD:PUBLISH
X-WR-CALNAME:Portal Municipal de Celorico da Beira
X-ORIGINAL-URL:https://www.cm-celoricodabeira.pt
X-WR-CALDESC:Eventos para Portal Municipal de Celorico da Beira
REFRESH-INTERVAL;VALUE=DURATION:PT1H
X-Robots-Tag:noindex
X-PUBLISHED-TTL:PT1H
BEGIN:VTIMEZONE
TZID:Europe/Lisbon
BEGIN:DAYLIGHT
TZOFFSETFROM:+0000
TZOFFSETTO:+0100
TZNAME:WEST
DTSTART:20190331T010000
END:DAYLIGHT
BEGIN:STANDARD
TZOFFSETFROM:+0100
TZOFFSETTO:+0000
TZNAME:WET
DTSTART:20191027T010000
END:STANDARD
BEGIN:DAYLIGHT
TZOFFSETFROM:+0000
TZOFFSETTO:+0100
TZNAME:WEST
DTSTART:20200329T010000
END:DAYLIGHT
BEGIN:STANDARD
TZOFFSETFROM:+0100
TZOFFSETTO:+0000
TZNAME:WET
DTSTART:20201025T010000
END:STANDARD
BEGIN:DAYLIGHT
TZOFFSETFROM:+0000
TZOFFSETTO:+0100
TZNAME:WEST
DTSTART:20210328T010000
END:DAYLIGHT
BEGIN:STANDARD
TZOFFSETFROM:+0100
TZOFFSETTO:+0000
TZNAME:WET
DTSTART:20211031T010000
END:STANDARD
END:VTIMEZONE
BEGIN:VEVENT
DTSTART;VALUE=DATE:20200505
DTEND;VALUE=DATE:20200601
DTSTAMP:20260422T120610
CREATED:20200430T203001Z
LAST-MODIFIED:20200430T203001Z
UID:9237-1588636800-1590969599@www.cm-celoricodabeira.pt
SUMMARY:Durante o mês de maio a Biblioteca Municipal de Celorico da Beira homenageia autores locais
DESCRIPTION:A Biblioteca Municipal de Celorico da Beira vai homenagear\, de 5 a 31 de maio\, autores celoricenses ou cuja obra verse sobre a terra\, que foi berço de Sacadura Cabral\, que constituem o seu Fundo Local\, através do facebook da Biblioteca\, por força da situação pandémica que assola o país e o mundo. \nComemorando-se a 23 de maio o Feriado Municipal\, que assinala o nascimento do ilustre celoricense\, que abriu novos horizontes à aviação\, Arthur de Sacadura Cabral\, a Biblioteca Municipal de Celorico da Beira\, quer também prestar tributo\, durante o mês de maio\, aos heróis das áreas das artes\, como a escrita ou a fotografia\, que contribuem como as suas obras para o enriquecimento cultural e  a literacia da população. \nObjetiva-se com uma biblioteca conservar\, divulgar a memória da humanidade mas\, também\, conservar e divulgar a memória colectiva local. O Fundo Local da Biblioteca Municipal é constituído por todo o tipo de documentos e publicações relativos a uma determinada comunidade\, produzidos pela comunidade ou com ela relacionados\, representa assim\, a memória da comunidade. \nCom esta iniciativa a Biblioteca Municipal de Celorico da Beira pretende\, através de pequenas notas biográficas\, dar a conhecer os autores locais e as diferentes áreas literárias por onde se têm destacado\, contribuindo assim\, para preservar a memória local e torná-la acessível a toda a comunidade. \n 
URL:https://www.cm-celoricodabeira.pt/evento/durante-o-mes-de-maio-a-biblioteca-municipal-de-celorico-da-beira-homenageia-autores-locais/
CATEGORIES:Artes e Cultura
ATTACH;FMTTYPE=image/jpeg:https://www.cm-celoricodabeira.pt/wp-content/uploads/2020/04/biblioteca.jpg
END:VEVENT
BEGIN:VEVENT
DTSTART;TZID=Europe/Lisbon:20200523T140000
DTEND;TZID=Europe/Lisbon:20200531T235900
DTSTAMP:20260422T120610
CREATED:20200523T130327Z
LAST-MODIFIED:20200523T202202Z
UID:9614-1590242400-1590969540@www.cm-celoricodabeira.pt
SUMMARY:Feriado Municipal | Mostra o Teu Talento
DESCRIPTION:Alguns celoricenses aceitaram o repto “Mostra o Teu Talento”\, lançado pelo Município e abrem a porta do seu mundo\, mais pessoal\, secreto e intimista\, revelando à comunidade\, através de um vídeo\, o seu jeito para a poesia ou a música\, transformando as suas performances em arte\, num espectáculo virtual que merece os aplausos de todos nós.
URL:https://www.cm-celoricodabeira.pt/evento/feriado-municipal-mostra-o-teu-talento/
CATEGORIES:Artes e Cultura,Festas e tradições,Música
ATTACH;FMTTYPE=image/jpeg:https://www.cm-celoricodabeira.pt/wp-content/uploads/2020/05/mostra-talento-peq.jpg
END:VEVENT
BEGIN:VEVENT
DTSTART;TZID=Europe/Lisbon:20200523T170000
DTEND;TZID=Europe/Lisbon:20200531T235900
DTSTAMP:20260422T120610
CREATED:20200523T160720Z
LAST-MODIFIED:20200523T202044Z
UID:9620-1590253200-1590969540@www.cm-celoricodabeira.pt
SUMMARY:Feriado Municipal | Celorico da Beira\, da Minha Janela | Exposição virtual
DESCRIPTION:Crianças\, jovens e adultos responderam ao desafio “Celorico da Beira da Minha Janela”\, lançado pelo Município no âmbito do Feriado Municipal\, partilhando com a comunidade\, cenários que têm o privilégio de observar da sua janela\, transpondo-os para o papel e adicionando-lhes a sua sensibilidade\, a sua perspectiva\, os seus traços artísticos\, em consonância com a sua idade\, resultando em consequência\, trabalhos de desenho e pintura notáveis. \nA todos\, endereçamos os nossos agradecimentos e os nossos aplausos. \n\n\n\n\nCelorico da Beira\, da minha janela – José Prata dos Reis\, União de Freguesias de Celorico da Beira (São Pedro e Santa Maria) e Vila Boa do Mondego\n\n\n\n\n\n\nIgreja Paroquial – Daniel Costa Rodrigues\, Freguesia da Lageosa do Mondego\n\n\n\n\n \nO que vejo da minha janela – Beatriz Pacheco\, Freguesia do Fornotelheiro
URL:https://www.cm-celoricodabeira.pt/evento/feriado-municipal-celorico-da-beira-da-minha-janela-exposicao-virtual/
CATEGORIES:Artes e Cultura,Festas e tradições
ATTACH;FMTTYPE=image/jpeg:https://www.cm-celoricodabeira.pt/wp-content/uploads/2020/05/da-minha-janela2-scaled.jpg
END:VEVENT
END:VCALENDAR