BEGIN:VCALENDAR
VERSION:2.0
PRODID:-//Portal Municipal de Celorico da Beira - ECPv6.15.20//NONSGML v1.0//EN
CALSCALE:GREGORIAN
METHOD:PUBLISH
X-WR-CALNAME:Portal Municipal de Celorico da Beira
X-ORIGINAL-URL:https://www.cm-celoricodabeira.pt
X-WR-CALDESC:Eventos para Portal Municipal de Celorico da Beira
REFRESH-INTERVAL;VALUE=DURATION:PT1H
X-Robots-Tag:noindex
X-PUBLISHED-TTL:PT1H
BEGIN:VTIMEZONE
TZID:Europe/Lisbon
BEGIN:DAYLIGHT
TZOFFSETFROM:+0000
TZOFFSETTO:+0100
TZNAME:WEST
DTSTART:20180325T010000
END:DAYLIGHT
BEGIN:STANDARD
TZOFFSETFROM:+0100
TZOFFSETTO:+0000
TZNAME:WET
DTSTART:20181028T010000
END:STANDARD
BEGIN:DAYLIGHT
TZOFFSETFROM:+0000
TZOFFSETTO:+0100
TZNAME:WEST
DTSTART:20190331T010000
END:DAYLIGHT
BEGIN:STANDARD
TZOFFSETFROM:+0100
TZOFFSETTO:+0000
TZNAME:WET
DTSTART:20191027T010000
END:STANDARD
BEGIN:DAYLIGHT
TZOFFSETFROM:+0000
TZOFFSETTO:+0100
TZNAME:WEST
DTSTART:20200329T010000
END:DAYLIGHT
BEGIN:STANDARD
TZOFFSETFROM:+0100
TZOFFSETTO:+0000
TZNAME:WET
DTSTART:20201025T010000
END:STANDARD
END:VTIMEZONE
BEGIN:VEVENT
DTSTART;TZID=Europe/Lisbon:20191207T080000
DTEND;TZID=Europe/Lisbon:20191224T170000
DTSTAMP:20260422T035214
CREATED:20191204T161204Z
LAST-MODIFIED:20191204T161204Z
UID:6904-1575705600-1577206800@www.cm-celoricodabeira.pt
SUMMARY:Feira das Edições Municipais
DESCRIPTION:A Biblioteca Municipal de Celorico da Beira promove a Feira das Edições Municipais\, de 7 a 24 de dezembro\, a funcionar das 09H30 às 17H30\, durante a semana e\, das 09H30 às 14H30\, ao sábado.\nEsta iniciativa visa divulgar as publicações editadas pelo Município de Celorico da Beira e proporcionar a oportunidade de aquisição de livros a custos reduzidos.\nUm livro é um amigo. Um livro é cultura.\nNeste Natal ofereça livros aos seus familiares e amigos.
URL:https://www.cm-celoricodabeira.pt/evento/feira-das-edicoes-municipais/
CATEGORIES:Artes e Cultura
ATTACH;FMTTYPE=image/jpeg:https://www.cm-celoricodabeira.pt/wp-content/uploads/2019/12/201912_BMCB_Feira-Edicoes-scaled.jpg
END:VEVENT
BEGIN:VEVENT
DTSTART;TZID=Europe/Lisbon:20191207T213000
DTEND;TZID=Europe/Lisbon:20191207T223000
DTSTAMP:20260422T035214
CREATED:20191125T155728Z
LAST-MODIFIED:20191125T155728Z
UID:6759-1575754200-1575757800@www.cm-celoricodabeira.pt
SUMMARY:Centro Histórico Con(vida) | Celorico da Beira
DESCRIPTION:O mais famoso tenor português da atualidade\, Carlos Guilherme e\, a soprano\, Filipa Lopes\, dão as boas vindas à época natalícia em Celorico da Beira\, no dia 7 de dezembro\, pelas 21h30\, na Igreja de Santa Maria. \nDeixe-se contagiar pelo encanto deste Recital que apresenta alguns dos trechos clássicos líricos e de Natal mais conhecidos do grande público. \nUm espetáculo a não perder!
URL:https://www.cm-celoricodabeira.pt/evento/centro-historico-convida-celorico-da-beira-3/
CATEGORIES:Artes e Cultura,Música
ATTACH;FMTTYPE=image/jpeg:https://www.cm-celoricodabeira.pt/wp-content/uploads/2019/11/Cartaz-Atividades-de-Dezembro-Centro-Historico-scaled.jpg
END:VEVENT
BEGIN:VEVENT
DTSTART;TZID=Europe/Lisbon:20191207T213000
DTEND;TZID=Europe/Lisbon:20191207T230000
DTSTAMP:20260422T035214
CREATED:20191119T130721Z
LAST-MODIFIED:20191128T155218Z
UID:6689-1575754200-1575759600@www.cm-celoricodabeira.pt
SUMMARY:Clássicos do Natal
DESCRIPTION:O mais famoso tenor português da atualidade\, Carlos Guilherme e\, a soprano\, Filipa Lopes\, dão as boas vindas à época natalícia em Celorico da Beira\, no dia 7 de dezembro\, pelas 21h30\, na Igreja de Santa Maria. \nDeixe-se contagiar pelo encanto deste Recital que apresenta alguns dos trechos clássicos líricos e de Natal mais conhecidos do grande público. \nUm espetáculo a não perder!
URL:https://www.cm-celoricodabeira.pt/evento/classicos-do-natal/
CATEGORIES:Artes e Cultura,Festas e tradições
ATTACH;FMTTYPE=image/jpeg:https://www.cm-celoricodabeira.pt/wp-content/uploads/2019/11/classicos-do-nata_finall-copy-scaled.jpg
END:VEVENT
END:VCALENDAR