BEGIN:VCALENDAR
VERSION:2.0
PRODID:-//Portal Municipal de Celorico da Beira - ECPv6.15.20//NONSGML v1.0//EN
CALSCALE:GREGORIAN
METHOD:PUBLISH
X-ORIGINAL-URL:https://www.cm-celoricodabeira.pt
X-WR-CALDESC:Eventos para Portal Municipal de Celorico da Beira
REFRESH-INTERVAL;VALUE=DURATION:PT1H
X-Robots-Tag:noindex
X-PUBLISHED-TTL:PT1H
BEGIN:VTIMEZONE
TZID:UTC
BEGIN:STANDARD
TZOFFSETFROM:+0000
TZOFFSETTO:+0000
TZNAME:UTC
DTSTART:20180101T000000
END:STANDARD
END:VTIMEZONE
BEGIN:VEVENT
DTSTART;TZID=UTC:20190817T210000
DTEND;TZID=UTC:20190817T230000
DTSTAMP:20260421T185130
CREATED:20190813T094638Z
LAST-MODIFIED:20190813T094638Z
UID:5432-1566075600-1566082800@www.cm-celoricodabeira.pt
SUMMARY:Visitas Guiadas Encenadas ao Centro Histórico de Celorico da Beira
DESCRIPTION:
URL:https://www.cm-celoricodabeira.pt/evento/visitas-guiadas-encenadas-ao-centro-historico-de-celorico-da-beira/
CATEGORIES:Artes e Cultura,Festas e tradições
ATTACH;FMTTYPE=image/jpeg:https://www.cm-celoricodabeira.pt/wp-content/uploads/2019/08/Visitas-Guiadas-Encenadas-no-Centro-Historico-Municipios.jpg
END:VEVENT
END:VCALENDAR