BEGIN:VCALENDAR
VERSION:2.0
PRODID:-//Portal Municipal de Celorico da Beira - ECPv6.15.20//NONSGML v1.0//EN
CALSCALE:GREGORIAN
METHOD:PUBLISH
X-WR-CALNAME:Portal Municipal de Celorico da Beira
X-ORIGINAL-URL:https://www.cm-celoricodabeira.pt
X-WR-CALDESC:Eventos para Portal Municipal de Celorico da Beira
REFRESH-INTERVAL;VALUE=DURATION:PT1H
X-Robots-Tag:noindex
X-PUBLISHED-TTL:PT1H
BEGIN:VTIMEZONE
TZID:UTC
BEGIN:STANDARD
TZOFFSETFROM:+0000
TZOFFSETTO:+0000
TZNAME:UTC
DTSTART:20180101T000000
END:STANDARD
END:VTIMEZONE
BEGIN:VEVENT
DTSTART;TZID=UTC:20190608T204500
DTEND;TZID=UTC:20190608T230000
DTSTAMP:20260421T152729
CREATED:20190530T103747Z
LAST-MODIFIED:20190530T103747Z
UID:4643-1560026700-1560034800@www.cm-celoricodabeira.pt
SUMMARY:Sarau Cultural | Universidade Sénior
DESCRIPTION:
URL:https://www.cm-celoricodabeira.pt/evento/sarau-cultural-universidade-senior/
CATEGORIES:Artes e Cultura,Atividades Diversas
ATTACH;FMTTYPE=image/jpeg:https://www.cm-celoricodabeira.pt/wp-content/uploads/2019/05/sarau_cultural-2019.jpg
END:VEVENT
BEGIN:VEVENT
DTSTART;TZID=UTC:20190608T213000
DTEND;TZID=UTC:20190608T233000
DTSTAMP:20260421T152729
CREATED:20190516T075804Z
LAST-MODIFIED:20190516T075835Z
UID:4504-1560029400-1560036600@www.cm-celoricodabeira.pt
SUMMARY:II edição da recriação teatral “O Enforcado”
DESCRIPTION:Vai ter lugar no próximo dia 8 de junho\, pelas 21H30\, na freguesia de Fornotelheiro\, concelho de Celorico da Beira\, a II edição da recriação teatral “O Enforcado”. \nInserido na ação de valorização do património cultural\, edificado e imaterial\, encetada pelo Município\, esta recriação teatral centra-se nos principais elementos patrimoniais da freguesia de Fornotelheiro\, onde a forca é\, sem dúvida\, o elemento mais carismático e identificador da terra. \nA forca – estrutura medieval/moderna em granito\, destinada à execução dos réus condenados à pena máxima\, pela justiça nos fóruns do concelho – a par do pelourinho são traços remanescentes da categoria administrativa de vila que o Fornotelheiro detinha no passado\, os quais perduram até aos nossos dias\, constituindo uma das maiores riqueza do património histórico-cultural do município de Celorico da Beira.
URL:https://www.cm-celoricodabeira.pt/evento/ii-edicao-da-recriacao-teatral-o-enforcado/
CATEGORIES:Artes e Cultura,Atividades Diversas
ATTACH;FMTTYPE=image/jpeg:https://www.cm-celoricodabeira.pt/wp-content/uploads/2019/05/o-enforcado.jpg
END:VEVENT
END:VCALENDAR