BEGIN:VCALENDAR
VERSION:2.0
PRODID:-//Portal Municipal de Celorico da Beira - ECPv6.15.20//NONSGML v1.0//EN
CALSCALE:GREGORIAN
METHOD:PUBLISH
X-WR-CALNAME:Portal Municipal de Celorico da Beira
X-ORIGINAL-URL:https://www.cm-celoricodabeira.pt
X-WR-CALDESC:Eventos para Portal Municipal de Celorico da Beira
REFRESH-INTERVAL;VALUE=DURATION:PT1H
X-Robots-Tag:noindex
X-PUBLISHED-TTL:PT1H
BEGIN:VTIMEZONE
TZID:UTC
BEGIN:STANDARD
TZOFFSETFROM:+0000
TZOFFSETTO:+0000
TZNAME:UTC
DTSTART:20180101T000000
END:STANDARD
END:VTIMEZONE
BEGIN:VEVENT
DTSTART;VALUE=DATE:20190309
DTEND;VALUE=DATE:20190310
DTSTAMP:20260421T140048
CREATED:20190227T162048Z
LAST-MODIFIED:20190227T162143Z
UID:4024-1552089600-1552175999@www.cm-celoricodabeira.pt
SUMMARY:Lagarada AJTG
DESCRIPTION:
URL:https://www.cm-celoricodabeira.pt/evento/lagarada-ajtg/
CATEGORIES:Artes e Cultura,Atividades Diversas
ATTACH;FMTTYPE=image/jpeg:https://www.cm-celoricodabeira.pt/wp-content/uploads/2019/02/cartaz_lagaradaAJTG2019_vf.jpg
END:VEVENT
END:VCALENDAR