BEGIN:VCALENDAR
VERSION:2.0
PRODID:-//Portal Municipal de Celorico da Beira - ECPv6.15.20//NONSGML v1.0//EN
CALSCALE:GREGORIAN
METHOD:PUBLISH
X-WR-CALNAME:Portal Municipal de Celorico da Beira
X-ORIGINAL-URL:https://www.cm-celoricodabeira.pt
X-WR-CALDESC:Eventos para Portal Municipal de Celorico da Beira
REFRESH-INTERVAL;VALUE=DURATION:PT1H
X-Robots-Tag:noindex
X-PUBLISHED-TTL:PT1H
BEGIN:VTIMEZONE
TZID:UTC
BEGIN:STANDARD
TZOFFSETFROM:+0000
TZOFFSETTO:+0000
TZNAME:UTC
DTSTART:20180101T000000
END:STANDARD
END:VTIMEZONE
BEGIN:VEVENT
DTSTART;TZID=UTC:20190222T213000
DTEND;TZID=UTC:20190222T233000
DTSTAMP:20260421T153431
CREATED:20190130T141906Z
LAST-MODIFIED:20190130T142017Z
UID:3753-1550871000-1550878200@www.cm-celoricodabeira.pt
SUMMARY:Revista "Volta a Portugal em Revista"
DESCRIPTION:
URL:https://www.cm-celoricodabeira.pt/evento/revista-volta-a-portugal-em-revista/
LOCATION:Centro Cultural de Celorico da Beira\, Av. da Corredoura\, Celorico da Beira\, 6360-350\, Portugal
CATEGORIES:Artes e Cultura
ATTACH;FMTTYPE=image/jpeg:https://www.cm-celoricodabeira.pt/wp-content/uploads/2019/01/VoltaPortugalEmRevista_CartazFinal.jpg
END:VEVENT
END:VCALENDAR