BEGIN:VCALENDAR
VERSION:2.0
PRODID:-//Portal Municipal de Celorico da Beira - ECPv6.15.20//NONSGML v1.0//EN
CALSCALE:GREGORIAN
METHOD:PUBLISH
X-ORIGINAL-URL:https://www.cm-celoricodabeira.pt
X-WR-CALDESC:Eventos para Portal Municipal de Celorico da Beira
REFRESH-INTERVAL;VALUE=DURATION:PT1H
X-Robots-Tag:noindex
X-PUBLISHED-TTL:PT1H
BEGIN:VTIMEZONE
TZID:UTC
BEGIN:STANDARD
TZOFFSETFROM:+0000
TZOFFSETTO:+0000
TZNAME:UTC
DTSTART:20170101T000000
END:STANDARD
END:VTIMEZONE
BEGIN:VEVENT
DTSTART;TZID=UTC:20181201T080000
DTEND;TZID=UTC:20190106T233000
DTSTAMP:20260421T185456
CREATED:20181126T162409Z
LAST-MODIFIED:20190109T163330Z
UID:2606-1543651200-1546817400@www.cm-celoricodabeira.pt
SUMMARY:Natal é em Celorico 2018 - Programa Oficial
DESCRIPTION:
URL:https://www.cm-celoricodabeira.pt/evento/natal-e-em-celorico-2018/
CATEGORIES:Artes e Cultura,Festas e tradições
ATTACH;FMTTYPE=image/jpeg:https://www.cm-celoricodabeira.pt/wp-content/uploads/2018/11/cartaz_calendario-e1543249408987.jpg
END:VEVENT
BEGIN:VEVENT
DTSTART;TZID=UTC:20181208T160000
DTEND;TZID=UTC:20181223T170000
DTSTAMP:20260421T185456
CREATED:20181130T154051Z
LAST-MODIFIED:20181130T154051Z
UID:2897-1544284800-1545584400@www.cm-celoricodabeira.pt
SUMMARY:Concertos de Natal no concelho de Celorico da Beira
DESCRIPTION:
URL:https://www.cm-celoricodabeira.pt/evento/concertos-de-natal-no-concelho-de-celorico-da-beira/
CATEGORIES:Artes e Cultura,Festas e tradições
ATTACH;FMTTYPE=image/jpeg:https://www.cm-celoricodabeira.pt/wp-content/uploads/2018/11/concertos_natal_2018.jpg
END:VEVENT
BEGIN:VEVENT
DTSTART;TZID=UTC:20181211T143000
DTEND;TZID=UTC:20181211T233000
DTSTAMP:20260421T185456
CREATED:20181122T124312Z
LAST-MODIFIED:20181122T124624Z
UID:2170-1544538600-1544571000@www.cm-celoricodabeira.pt
SUMMARY:Visita Guiada Encenada (Público Escolar)
DESCRIPTION:Visitas Encenadas | Centro Histórico de Celorico da Beira \nEntre os meses de outubro e dezembro o Centro Histórico irá ser palco de diversas visitas guiadas/encenações sobre algumas personagens\, acontecimentos bem como artes e ofícios que marcaram a história de Celorico da Beira.
URL:https://www.cm-celoricodabeira.pt/evento/visita-guiada-encenada-publico-escolar/
LOCATION:Centro Histórico de Celorico da Beira
CATEGORIES:Artes e Cultura
ATTACH;FMTTYPE=image/jpeg:https://www.cm-celoricodabeira.pt/wp-content/uploads/2018/11/visitas-encenadas.jpeg
END:VEVENT
END:VCALENDAR