BEGIN:VCALENDAR
VERSION:2.0
PRODID:-//Portal Municipal de Celorico da Beira - ECPv6.15.20//NONSGML v1.0//EN
CALSCALE:GREGORIAN
METHOD:PUBLISH
X-ORIGINAL-URL:https://www.cm-celoricodabeira.pt
X-WR-CALDESC:Eventos para Portal Municipal de Celorico da Beira
REFRESH-INTERVAL;VALUE=DURATION:PT1H
X-Robots-Tag:noindex
X-PUBLISHED-TTL:PT1H
BEGIN:VTIMEZONE
TZID:UTC
BEGIN:STANDARD
TZOFFSETFROM:+0000
TZOFFSETTO:+0000
TZNAME:UTC
DTSTART:20180101T000000
END:STANDARD
END:VTIMEZONE
BEGIN:VEVENT
DTSTART;TZID=UTC:20190322T080000
DTEND;TZID=UTC:20190501T170000
DTSTAMP:20260421T104259
CREATED:20190322T153747Z
LAST-MODIFIED:20190322T154655Z
UID:4223-1553241600-1556730000@www.cm-celoricodabeira.pt
SUMMARY:Recolha de Fotografias "Casamentos de Celorico"
DESCRIPTION:Se tem fotografias de casamentos (com mais de 40 anos) e quer homenagear os seus antepassados\, participe com o empréstimo das mesmas. \n\n\n                \n                        \n                            Casamentos de Celorico\n                             \n                        \n                        Normas de participação \nExposição de fotografia “Casamentos de Celorico” \n  \nSerão aceites todas as fotografias de Casamentos tenham eles sido realizados dentro ou fora do Concelho/País; \nCondições de participação: \nUm dos noivos ser natural do concelho de Celorico da Beira; \nAs fotografias terem mais de 40 anos; \nSerão aceites\, no máximo\, 3 fotografias por casamento. \nData limite de entrega:  \n1 de maio de 2019. \nModo de entrega: \nA entrega das fotografias em mão (formato papel) deverá ser efetuada na secretaria da Câmara Municipal de Celorico da Beira. As fotografias serão devolvidas após o dia 23 de maio de 2019. \nA submissão digital deverá ser efetuada através do endereço eletrónico: \ncentrocultural@cm-celoricodabeira.pt \nAs fotografias entregues\, em formato papel\, ou em formato digital\, terão de ser\, necessariamente\, acompanhadas da declaração de consentimento de utilização bem como\, da identificação dos elementos que constem da fotografia e da data da mesma. \nNo caso da entrega das fotografias\, em formato papel\, a declaração de consentimento será facultada na Secção de Secretaria. \nCaso as fotografias sejam remetidas por via digital:  \nA digitalização deverá obedecer às seguintes dimensões mínimas 900x600px; \nAs declarações de consentimento estarão disponíveis online em (Declaração de Consentimento)e as fotografias só serão publicadas/expostas\, após a entrega da referida declaração. \n  \nDeclaração de Consentimento Fotografia própria \nDeclaração de Consentimento Fotografia de outros \n  Elementos da FotografiaData de Casamento\n                            \n                            DD barra MM barra AAAA\n                        \n                        Se não conhecer a data correta coloque por aproximaçãoCasamento de:(Obrigatório)Identifique os noivos.Local do Casamento/LocalidadeElementos da esquerda a para a direita e de cima para baixo:Se possível identifique o máximo de pessoas possíveis.ObservaçõesTelefone(Obrigatório)Email(Obrigatório)\n                            \n                        Documento de consentimento (pdf)(Obrigatório)Tipos de ficheiro aceites: pdf\, png\, jpeg\, Tamanho máx. de ficheiro: 1 GB. pdf\,png\,jpegImagem/fotografia do casamentoTamanho máx. de ficheiro: 16 MB. Tamanho máximo 10mb
URL:https://www.cm-celoricodabeira.pt/evento/recolha-de-fotografias-casamentos-de-celorico/
CATEGORIES:Artes e Cultura,Atividades Diversas
ATTACH;FMTTYPE=image/jpeg:https://www.cm-celoricodabeira.pt/wp-content/uploads/2019/03/casamento-de-celorico-final.jpg
END:VEVENT
BEGIN:VEVENT
DTSTART;TZID=UTC:20190407T160000
DTEND;TZID=UTC:20190407T180000
DTSTAMP:20260421T104259
CREATED:20190402T130341Z
LAST-MODIFIED:20190402T130724Z
UID:4290-1554652800-1554660000@www.cm-celoricodabeira.pt
SUMMARY:Via-Sacra pelas ruas da aldeia de Vide-Entre-Vinhas
DESCRIPTION:
URL:https://www.cm-celoricodabeira.pt/evento/via-sacra-pelas-ruas-da-aldeia-de-vide-entre-vinhas/
CATEGORIES:Artes e Cultura,Atividades Diversas
ATTACH;FMTTYPE=image/jpeg:https://www.cm-celoricodabeira.pt/wp-content/uploads/2019/04/Via-Sacra-2019.jpg
END:VEVENT
BEGIN:VEVENT
DTSTART;TZID=UTC:20190408T090000
DTEND;TZID=UTC:20190418T170000
DTSTAMP:20260421T104259
CREATED:20190404T152553Z
LAST-MODIFIED:20190404T152723Z
UID:4301-1554714000-1555606800@www.cm-celoricodabeira.pt
SUMMARY:Férias da Páscoa - Biblioteca Municipal
DESCRIPTION:
URL:https://www.cm-celoricodabeira.pt/evento/ferias-da-pascoa-biblioteca-municipal/
CATEGORIES:Artes e Cultura,Atividades Diversas
ATTACH;FMTTYPE=image/jpeg:https://www.cm-celoricodabeira.pt/wp-content/uploads/2019/04/fpascoa_2019.jpg
END:VEVENT
BEGIN:VEVENT
DTSTART;TZID=UTC:20190420T080000
DTEND;TZID=UTC:20190422T233000
DTSTAMP:20260421T104259
CREATED:20190402T135003Z
LAST-MODIFIED:20190402T140341Z
UID:4294-1555747200-1555975800@www.cm-celoricodabeira.pt
SUMMARY:Festa em Honra de Nossa Senhora de Azares
DESCRIPTION:
URL:https://www.cm-celoricodabeira.pt/evento/festa-em-honra-de-nossa-senhora-de-azares/
CATEGORIES:Artes e Cultura,Festas e tradições
ATTACH;FMTTYPE=image/jpeg:https://www.cm-celoricodabeira.pt/wp-content/uploads/2019/04/festa-de-vale-de-azares-Copia.jpg
END:VEVENT
BEGIN:VEVENT
DTSTART;TZID=UTC:20190425T103000
DTEND;TZID=UTC:20190425T230000
DTSTAMP:20260421T104259
CREATED:20190416T122330Z
LAST-MODIFIED:20190416T122330Z
UID:4364-1556188200-1556233200@www.cm-celoricodabeira.pt
SUMMARY:Comemorações do 25 de abril - Dia da Liberdade
DESCRIPTION:O Município de Celorico da Beira vai comemorar o 45º aniversário da Revolução dos Cravos que cortou as amarras da ditadura que oprimia o povo português. \nO programa dos festejos deste ano começa com hastear da bandeira às 10H30\, seguida da habitual romagem à estátua do soldado de abril\, no jardim de Santa Eufémia\, às 10H45. Junto à estátua\, será prestada homenagem aos militares/soldados promotores da revolução que alargou os horizontes ao povo português e lhes devolveu a capacidade de viver e sonhar em liberdade. Ainda durante a manhã\, às 11H15\, terá lugar no Centro Cultural de Celorico da Beira a inauguração da exposição documental “25 de Abril: memória e projeto de um tempo recente”. \nComemorar o 25 de abril é muito mais do que assinalar um feriado no calendário. É manter viva uma memória\, um símbolo\, um marco na nossa história coletiva\, uma importante conquista de valores como o uso das liberdades\, a igualdade de acesso às oportunidades e a democracia participada e plural.  \nComemorar 25 de abril é partir numa viagem pelas memórias de uma revolução que implica\, inevitavelmente\, revisitar poesias e canções emblemáticas como “E Depois do adeus” do Paulo de Carvalho e ” Grândola Vila Morena”\, de Zeca Afonso que estiveram na sua génese\, constituíram as senhas que ordenaram o avanço das tropas.  \nÉ por isso que\, um pouco por todo o país\, se comemora o Dia da Liberdade (25 de abril)\, com música de intervenção. Também os Feiticeiros e amigos têm encontro marcado com os celoricenses\, à noite\, pelas 21H30\, no Centro Cultural\, para “Cantar Abril” e encerrar as comemorações deste ano\, do Dia da Liberdade/Dia da Revolução dos Cravos.
URL:https://www.cm-celoricodabeira.pt/evento/comemoracoes-do-25-de-abril-dia-da-liberdade/
CATEGORIES:Artes e Cultura
ATTACH;FMTTYPE=image/jpeg:https://www.cm-celoricodabeira.pt/wp-content/uploads/2019/04/25-abril-2019.jpg
END:VEVENT
END:VCALENDAR