BEGIN:VCALENDAR
VERSION:2.0
PRODID:-//Portal Municipal de Celorico da Beira - ECPv6.15.20//NONSGML v1.0//EN
CALSCALE:GREGORIAN
METHOD:PUBLISH
X-ORIGINAL-URL:https://www.cm-celoricodabeira.pt
X-WR-CALDESC:Eventos para Portal Municipal de Celorico da Beira
REFRESH-INTERVAL;VALUE=DURATION:PT1H
X-Robots-Tag:noindex
X-PUBLISHED-TTL:PT1H
BEGIN:VTIMEZONE
TZID:UTC
BEGIN:STANDARD
TZOFFSETFROM:+0000
TZOFFSETTO:+0000
TZNAME:UTC
DTSTART:20180101T000000
END:STANDARD
END:VTIMEZONE
BEGIN:VEVENT
DTSTART;VALUE=DATE:20190309
DTEND;VALUE=DATE:20190310
DTSTAMP:20260421T122711
CREATED:20190227T162048Z
LAST-MODIFIED:20190227T162143Z
UID:4024-1552089600-1552175999@www.cm-celoricodabeira.pt
SUMMARY:Lagarada AJTG
DESCRIPTION:
URL:https://www.cm-celoricodabeira.pt/evento/lagarada-ajtg/
CATEGORIES:Artes e Cultura,Atividades Diversas
ATTACH;FMTTYPE=image/jpeg:https://www.cm-celoricodabeira.pt/wp-content/uploads/2019/02/cartaz_lagaradaAJTG2019_vf.jpg
END:VEVENT
BEGIN:VEVENT
DTSTART;TZID=UTC:20190313T080000
DTEND;TZID=UTC:20190329T170000
DTSTAMP:20260421T122711
CREATED:20190228T171025Z
LAST-MODIFIED:20190228T171107Z
UID:4049-1552464000-1553878800@www.cm-celoricodabeira.pt
SUMMARY:Exposição Mercadoria Humana
DESCRIPTION:Vai ter lugar no Centro Cultural de Celorico da Beira\, no próximo dia 13 de março\, pelas 12H30\, a inauguração da exposição “Mercadoria Humana / Fotografia e Artes Plásticas”\, promovida pela ONG Saúde em Português\, em colaboração com o Município de Celorico da Beira. \nInserida no âmbito do projeto de sensibilização “Mercadoria Humana 3” da IPSS/ONG Saúde em Português\, esta exposição é composta por fotografias e artes plásticas e estará patente ao público de 13 a 29 de março\, com o intuito de consciencializar e alertar a sociedade para a desprezível\, imoral e vergonhosa realidade do Tráfico de Seres Humanos (TSH)\, para fins de exploração laboral e sexual\, o qual tem vindo a aumentar\, assustadoramente\, em todo o mundo. \nAlém da exposição “Mercadoria Humana/Fotografias e Artes Plásticas”\, a ação a levar a cabo no município de Celorico da Beira pressupõe também\, no dia 13 de março\, dois seminários\, direcionados para públicos-alvo concretos. Durante a manhã\, decorrerá o seminário destinado a jovens do ensino secundário e superior e\, de tarde\, para Técnicos da área social e professores\, carecendo a participação neste último\, de inscrição prévia.\nOs técnicos da área social interessados\, podem efetuar a sua inscrição até ao próximo dia 4 de Março\, no Gabinete Cultural da Câmara Municipal de Celorico da Beira\, através do número de telemóvel 924066583 ou do e-mail razevedo@cm-celoricodabeira.pt \nA Saúde em Português é uma ONGD e IPSS fundada em 1993\, com a missão de promover a saúde\, a integração social e comunitária\, com vista ao desenvolvimento integral da pessoa humana\, respeitando e assegurando os seus direitos e liberdades fundamentais.\nDesde 2010\, está a fazer um périplo pelo país para a promoção do Projeto Mercadoria Humana 3 – Projeto de Sensibilização em Tráfico de Seres Humanos – financiado pelo Programa Operacional Inclusão Social e Emprego (POISE)\, através da Comissão para a Cidadania e Igualdade de Género (CIG)\, que terminará em junho de 2019. \nNinguém pode ficar indiferente e ignorar o flagelo social do Tráfego de Seres Humanos. Temos o dever cívico de agir e contribuir para a abolição de tão infame e vergonhoso crime\, através da educação e a denúncia.
URL:https://www.cm-celoricodabeira.pt/evento/exposicaomercadoriahumana/
CATEGORIES:Artes e Cultura
ATTACH;FMTTYPE=image/png:https://www.cm-celoricodabeira.pt/wp-content/uploads/2019/02/cartaz-TSH2.png
END:VEVENT
BEGIN:VEVENT
DTSTART;TZID=UTC:20190322T080000
DTEND;TZID=UTC:20190501T170000
DTSTAMP:20260421T122711
CREATED:20190322T153747Z
LAST-MODIFIED:20190322T154655Z
UID:4223-1553241600-1556730000@www.cm-celoricodabeira.pt
SUMMARY:Recolha de Fotografias "Casamentos de Celorico"
DESCRIPTION:Se tem fotografias de casamentos (com mais de 40 anos) e quer homenagear os seus antepassados\, participe com o empréstimo das mesmas. \n\n\n                \n                        \n                            Casamentos de Celorico\n                             \n                        \n                        Normas de participação \nExposição de fotografia “Casamentos de Celorico” \n  \nSerão aceites todas as fotografias de Casamentos tenham eles sido realizados dentro ou fora do Concelho/País; \nCondições de participação: \nUm dos noivos ser natural do concelho de Celorico da Beira; \nAs fotografias terem mais de 40 anos; \nSerão aceites\, no máximo\, 3 fotografias por casamento. \nData limite de entrega:  \n1 de maio de 2019. \nModo de entrega: \nA entrega das fotografias em mão (formato papel) deverá ser efetuada na secretaria da Câmara Municipal de Celorico da Beira. As fotografias serão devolvidas após o dia 23 de maio de 2019. \nA submissão digital deverá ser efetuada através do endereço eletrónico: \ncentrocultural@cm-celoricodabeira.pt \nAs fotografias entregues\, em formato papel\, ou em formato digital\, terão de ser\, necessariamente\, acompanhadas da declaração de consentimento de utilização bem como\, da identificação dos elementos que constem da fotografia e da data da mesma. \nNo caso da entrega das fotografias\, em formato papel\, a declaração de consentimento será facultada na Secção de Secretaria. \nCaso as fotografias sejam remetidas por via digital:  \nA digitalização deverá obedecer às seguintes dimensões mínimas 900x600px; \nAs declarações de consentimento estarão disponíveis online em (Declaração de Consentimento)e as fotografias só serão publicadas/expostas\, após a entrega da referida declaração. \n  \nDeclaração de Consentimento Fotografia própria \nDeclaração de Consentimento Fotografia de outros \n  Elementos da FotografiaData de Casamento\n                            \n                            DD barra MM barra AAAA\n                        \n                        Se não conhecer a data correta coloque por aproximaçãoCasamento de:(Obrigatório)Identifique os noivos.Local do Casamento/LocalidadeElementos da esquerda a para a direita e de cima para baixo:Se possível identifique o máximo de pessoas possíveis.ObservaçõesTelefone(Obrigatório)Email(Obrigatório)\n                            \n                        Documento de consentimento (pdf)(Obrigatório)Tipos de ficheiro aceites: pdf\, png\, jpeg\, Tamanho máx. de ficheiro: 1 GB. pdf\,png\,jpegImagem/fotografia do casamentoTamanho máx. de ficheiro: 16 MB. Tamanho máximo 10mb
URL:https://www.cm-celoricodabeira.pt/evento/recolha-de-fotografias-casamentos-de-celorico/
CATEGORIES:Artes e Cultura,Atividades Diversas
ATTACH;FMTTYPE=image/jpeg:https://www.cm-celoricodabeira.pt/wp-content/uploads/2019/03/casamento-de-celorico-final.jpg
END:VEVENT
BEGIN:VEVENT
DTSTART;TZID=UTC:20190324T090000
DTEND;TZID=UTC:20190324T170000
DTSTAMP:20260421T122711
CREATED:20190304T164537Z
LAST-MODIFIED:20190304T165349Z
UID:4062-1553418000-1553446800@www.cm-celoricodabeira.pt
SUMMARY:5º Festival do Requeijão | Fornotelheiro - Celorico da Beira
DESCRIPTION:
URL:https://www.cm-celoricodabeira.pt/evento/5o-festival-do-requeijao-fornotelheiro-celorico-da-beira/
CATEGORIES:Artes e Cultura,Atividades Diversas,Feiras e Mostras,Festas e tradições
ATTACH;FMTTYPE=image/jpeg:https://www.cm-celoricodabeira.pt/wp-content/uploads/2019/03/cartaz-requeijao.jpg
END:VEVENT
BEGIN:VEVENT
DTSTART;TZID=UTC:20190330T190000
DTEND;TZID=UTC:20190330T210000
DTSTAMP:20260421T122711
CREATED:20190315T095631Z
LAST-MODIFIED:20190315T101243Z
UID:4180-1553972400-1553979600@www.cm-celoricodabeira.pt
SUMMARY:Grande Noite de Fados - Velosa com Fado Hilário
DESCRIPTION:
URL:https://www.cm-celoricodabeira.pt/evento/grande-noite-de-fados-velosa-com-fado-hilario/
CATEGORIES:Artes e Cultura
ATTACH;FMTTYPE=image/jpeg:https://www.cm-celoricodabeira.pt/wp-content/uploads/2019/03/fado-velosa2019.jpg
END:VEVENT
END:VCALENDAR