BEGIN:VCALENDAR
VERSION:2.0
PRODID:-//Portal Municipal de Celorico da Beira - ECPv6.15.20//NONSGML v1.0//EN
CALSCALE:GREGORIAN
METHOD:PUBLISH
X-WR-CALNAME:Portal Municipal de Celorico da Beira
X-ORIGINAL-URL:https://www.cm-celoricodabeira.pt
X-WR-CALDESC:Eventos para Portal Municipal de Celorico da Beira
REFRESH-INTERVAL;VALUE=DURATION:PT1H
X-Robots-Tag:noindex
X-PUBLISHED-TTL:PT1H
BEGIN:VTIMEZONE
TZID:Europe/Lisbon
BEGIN:DAYLIGHT
TZOFFSETFROM:+0000
TZOFFSETTO:+0100
TZNAME:WEST
DTSTART:20250330T010000
END:DAYLIGHT
BEGIN:STANDARD
TZOFFSETFROM:+0100
TZOFFSETTO:+0000
TZNAME:WET
DTSTART:20251026T010000
END:STANDARD
BEGIN:DAYLIGHT
TZOFFSETFROM:+0000
TZOFFSETTO:+0100
TZNAME:WEST
DTSTART:20260329T010000
END:DAYLIGHT
BEGIN:STANDARD
TZOFFSETFROM:+0100
TZOFFSETTO:+0000
TZNAME:WET
DTSTART:20261025T010000
END:STANDARD
BEGIN:DAYLIGHT
TZOFFSETFROM:+0000
TZOFFSETTO:+0100
TZNAME:WEST
DTSTART:20270328T010000
END:DAYLIGHT
BEGIN:STANDARD
TZOFFSETFROM:+0100
TZOFFSETTO:+0000
TZNAME:WET
DTSTART:20271031T010000
END:STANDARD
END:VTIMEZONE
BEGIN:VEVENT
DTSTART;TZID=Europe/Lisbon:20260331T090000
DTEND;TZID=Europe/Lisbon:20260429T170000
DTSTAMP:20260425T015429
CREATED:20260303T095105Z
LAST-MODIFIED:20260303T100134Z
UID:52841-1774947600-1777482000@www.cm-celoricodabeira.pt
SUMMARY:Exposição de Rendas | CLDS 5G Celorico Solidário
DESCRIPTION:2 a 31 de março  | Exposição de Rendas | CLDS 5G Celorico Solidário\nMais Informações aqui.
URL:https://www.cm-celoricodabeira.pt/evento/exposicao-de-rendas-clds-5g-celorico-solidario/
LOCATION:Centro Cultural de Celorico da Beira\, Av. da Corredoura\, Celorico da Beira\, 6360-350\, Portugal
CATEGORIES:Artes e Cultura,Atividades Diversas
ATTACH;FMTTYPE=image/png:https://www.cm-celoricodabeira.pt/wp-content/uploads/2026/03/Cartaz-para-Evento-de-Arte-Minimalista-Verde-e-Branco.png
END:VEVENT
BEGIN:VEVENT
DTSTART;VALUE=DATE:20260425
DTEND;VALUE=DATE:20260426
DTSTAMP:20260425T015429
CREATED:20260310T161753Z
LAST-MODIFIED:20260410T102231Z
UID:53201-1777075200-1777161599@www.cm-celoricodabeira.pt
SUMMARY:25 de Abril
DESCRIPTION:Mais informações aqui.
URL:https://www.cm-celoricodabeira.pt/evento/25-de-abril-2/
LOCATION:Câmara Municipal de Celorico d Beira\, Celorico da Beira\, Celorico da Beira\, 6360-350
CATEGORIES:Artes e Cultura,Atividades Diversas,Música
ATTACH;FMTTYPE=image/png:https://www.cm-celoricodabeira.pt/wp-content/uploads/2026/04/25-abril-2026-scaled.png
END:VEVENT
BEGIN:VEVENT
DTSTART;TZID=Europe/Lisbon:20260425T213000
DTEND;TZID=Europe/Lisbon:20260425T233000
DTSTAMP:20260425T015429
CREATED:20260310T153509Z
LAST-MODIFIED:20260413T113041Z
UID:53181-1777152600-1777159800@www.cm-celoricodabeira.pt
SUMMARY:ZECAMEDEIROS
DESCRIPTION:Zecamedeiros \nMais informações aqui.
URL:https://www.cm-celoricodabeira.pt/evento/zecamedeiros/
LOCATION:Centro Cultural de Celorico da Beira\, Av. da Corredoura\, Celorico da Beira\, 6360-350\, Portugal
CATEGORIES:Artes e Cultura,Atividades Diversas,Música
ATTACH;FMTTYPE=image/jpeg:https://www.cm-celoricodabeira.pt/wp-content/uploads/2026/03/Cartaz_ZECAMEDEIROS_Final-scaled.jpg
END:VEVENT
END:VCALENDAR