BEGIN:VCALENDAR
VERSION:2.0
PRODID:-//Portal Municipal de Celorico da Beira - ECPv6.15.20//NONSGML v1.0//EN
CALSCALE:GREGORIAN
METHOD:PUBLISH
X-WR-CALNAME:Portal Municipal de Celorico da Beira
X-ORIGINAL-URL:https://www.cm-celoricodabeira.pt
X-WR-CALDESC:Eventos para Portal Municipal de Celorico da Beira
REFRESH-INTERVAL;VALUE=DURATION:PT1H
X-Robots-Tag:noindex
X-PUBLISHED-TTL:PT1H
BEGIN:VTIMEZONE
TZID:UTC
BEGIN:STANDARD
TZOFFSETFROM:+0000
TZOFFSETTO:+0000
TZNAME:UTC
DTSTART:20180101T000000
END:STANDARD
END:VTIMEZONE
BEGIN:VEVENT
DTSTART;TZID=UTC:20190322T080000
DTEND;TZID=UTC:20190501T170000
DTSTAMP:20260420T093932
CREATED:20190322T153747Z
LAST-MODIFIED:20190322T154655Z
UID:4223-1553241600-1556730000@www.cm-celoricodabeira.pt
SUMMARY:Recolha de Fotografias "Casamentos de Celorico"
DESCRIPTION:Se tem fotografias de casamentos (com mais de 40 anos) e quer homenagear os seus antepassados\, participe com o empréstimo das mesmas. \n\n\n                \n                        \n                            Casamentos de Celorico\n                             \n                        \n                        Normas de participação \nExposição de fotografia “Casamentos de Celorico” \n  \nSerão aceites todas as fotografias de Casamentos tenham eles sido realizados dentro ou fora do Concelho/País; \nCondições de participação: \nUm dos noivos ser natural do concelho de Celorico da Beira; \nAs fotografias terem mais de 40 anos; \nSerão aceites\, no máximo\, 3 fotografias por casamento. \nData limite de entrega:  \n1 de maio de 2019. \nModo de entrega: \nA entrega das fotografias em mão (formato papel) deverá ser efetuada na secretaria da Câmara Municipal de Celorico da Beira. As fotografias serão devolvidas após o dia 23 de maio de 2019. \nA submissão digital deverá ser efetuada através do endereço eletrónico: \ncentrocultural@cm-celoricodabeira.pt \nAs fotografias entregues\, em formato papel\, ou em formato digital\, terão de ser\, necessariamente\, acompanhadas da declaração de consentimento de utilização bem como\, da identificação dos elementos que constem da fotografia e da data da mesma. \nNo caso da entrega das fotografias\, em formato papel\, a declaração de consentimento será facultada na Secção de Secretaria. \nCaso as fotografias sejam remetidas por via digital:  \nA digitalização deverá obedecer às seguintes dimensões mínimas 900x600px; \nAs declarações de consentimento estarão disponíveis online em (Declaração de Consentimento)e as fotografias só serão publicadas/expostas\, após a entrega da referida declaração. \n  \nDeclaração de Consentimento Fotografia própria \nDeclaração de Consentimento Fotografia de outros \n  Elementos da FotografiaData de Casamento\n                            \n                            DD barra MM barra AAAA\n                        \n                        Se não conhecer a data correta coloque por aproximaçãoCasamento de:(Obrigatório)Identifique os noivos.Local do Casamento/LocalidadeElementos da esquerda a para a direita e de cima para baixo:Se possível identifique o máximo de pessoas possíveis.ObservaçõesTelefone(Obrigatório)Email(Obrigatório)\n                            \n                        Documento de consentimento (pdf)(Obrigatório)Tipos de ficheiro aceites: pdf\, png\, jpeg\, Tamanho máx. de ficheiro: 1 GB. pdf\,png\,jpegImagem/fotografia do casamentoTamanho máx. de ficheiro: 16 MB. Tamanho máximo 10mb
URL:https://www.cm-celoricodabeira.pt/evento/recolha-de-fotografias-casamentos-de-celorico/
CATEGORIES:Artes e Cultura,Atividades Diversas
ATTACH;FMTTYPE=image/jpeg:https://www.cm-celoricodabeira.pt/wp-content/uploads/2019/03/casamento-de-celorico-final.jpg
END:VEVENT
END:VCALENDAR